BEGIN:VCALENDAR
VERSION:2.0
PRODID:-//KOHALA MOUNTAIN NEWS - ECPv6.15.20//NONSGML v1.0//EN
CALSCALE:GREGORIAN
METHOD:PUBLISH
X-WR-CALNAME:KOHALA MOUNTAIN NEWS
X-ORIGINAL-URL:https://kohalamountainnews.com
X-WR-CALDESC:Events for KOHALA MOUNTAIN NEWS
REFRESH-INTERVAL;VALUE=DURATION:PT1H
X-Robots-Tag:noindex
X-PUBLISHED-TTL:PT1H
BEGIN:VTIMEZONE
TZID:Pacific/Honolulu
BEGIN:STANDARD
TZOFFSETFROM:-1000
TZOFFSETTO:-1000
TZNAME:HST
DTSTART:20240101T000000
END:STANDARD
END:VTIMEZONE
BEGIN:VEVENT
DTSTART;TZID=Pacific/Honolulu:20250303T170000
DTEND;TZID=Pacific/Honolulu:20250303T170000
DTSTAMP:20260424T061435
CREATED:20250220T051433Z
LAST-MODIFIED:20250220T051433Z
UID:2018-1741021200-1741021200@kohalamountainnews.com
SUMMARY:Chess Club
DESCRIPTION:All ages welcome!
URL:https://kohalamountainnews.com/event/chess-club-19/
LOCATION:NK Public Library
END:VEVENT
END:VCALENDAR