BEGIN:VCALENDAR
VERSION:2.0
PRODID:-//KOHALA MOUNTAIN NEWS - ECPv6.15.20//NONSGML v1.0//EN
CALSCALE:GREGORIAN
METHOD:PUBLISH
X-ORIGINAL-URL:https://kohalamountainnews.com
X-WR-CALDESC:Events for KOHALA MOUNTAIN NEWS
REFRESH-INTERVAL;VALUE=DURATION:PT1H
X-Robots-Tag:noindex
X-PUBLISHED-TTL:PT1H
BEGIN:VTIMEZONE
TZID:Pacific/Honolulu
BEGIN:STANDARD
TZOFFSETFROM:-1000
TZOFFSETTO:-1000
TZNAME:HST
DTSTART:20240101T000000
END:STANDARD
END:VTIMEZONE
BEGIN:VEVENT
DTSTART;TZID=Pacific/Honolulu:20250310T180000
DTEND;TZID=Pacific/Honolulu:20250310T180000
DTSTAMP:20260424T061610
CREATED:20250220T051449Z
LAST-MODIFIED:20250220T051449Z
UID:2026-1741629600-1741629600@kohalamountainnews.com
SUMMARY:Pajama Storytime
DESCRIPTION:Wear your pajamas and get ready for some story time fun!
URL:https://kohalamountainnews.com/event/pajama-storytime/
LOCATION:NK Public Library
END:VEVENT
END:VCALENDAR