BEGIN:VCALENDAR
VERSION:2.0
PRODID:-//KOHALA MOUNTAIN NEWS - ECPv6.15.20//NONSGML v1.0//EN
CALSCALE:GREGORIAN
METHOD:PUBLISH
X-ORIGINAL-URL:https://kohalamountainnews.com
X-WR-CALDESC:Events for KOHALA MOUNTAIN NEWS
REFRESH-INTERVAL;VALUE=DURATION:PT1H
X-Robots-Tag:noindex
X-PUBLISHED-TTL:PT1H
BEGIN:VTIMEZONE
TZID:Pacific/Honolulu
BEGIN:STANDARD
TZOFFSETFROM:-1000
TZOFFSETTO:-1000
TZNAME:HST
DTSTART:20240101T000000
END:STANDARD
END:VTIMEZONE
BEGIN:VEVENT
DTSTART;TZID=Pacific/Honolulu:20250402T160000
DTEND;TZID=Pacific/Honolulu:20250402T160000
DTSTAMP:20260424T061523
CREATED:20250328T072648Z
LAST-MODIFIED:20250328T072648Z
UID:2055-1743609600-1743609600@kohalamountainnews.com
SUMMARY:KOHALA NIGHT MARKET
DESCRIPTION:VENDORS & ENTERTAINMENT
URL:https://kohalamountainnews.com/event/kohala-night-market-24/
LOCATION:HUB BARN
END:VEVENT
BEGIN:VEVENT
DTSTART;TZID=Pacific/Honolulu:20250402T163000
DTEND;TZID=Pacific/Honolulu:20250402T163000
DTSTAMP:20260424T061523
CREATED:20250328T072648Z
LAST-MODIFIED:20250328T072648Z
UID:2056-1743611400-1743611400@kohalamountainnews.com
SUMMARY:KOHALA COMMUNITY ACCESS GROUP
DESCRIPTION:NKCDP
URL:https://kohalamountainnews.com/event/kohala-community-access-group-22/
LOCATION:Old Courthouse
END:VEVENT
BEGIN:VEVENT
DTSTART;TZID=Pacific/Honolulu:20250402T190000
DTEND;TZID=Pacific/Honolulu:20250402T190000
DTSTAMP:20260424T061523
CREATED:20250328T072648Z
LAST-MODIFIED:20250328T072648Z
UID:2057-1743620400-1743620400@kohalamountainnews.com
SUMMARY:Temple of Spiritual Healing
DESCRIPTION:Grief support group
URL:https://kohalamountainnews.com/event/temple-of-spiritual-healing-24/
LOCATION:54-3876 Akoni Pule Ste 4\, 54-3876 Akoni Pule Ste 4\, kapaau\, HI\, 96755\, United States
END:VEVENT
END:VCALENDAR