BEGIN:VCALENDAR
VERSION:2.0
PRODID:-//KOHALA MOUNTAIN NEWS - ECPv6.15.20//NONSGML v1.0//EN
CALSCALE:GREGORIAN
METHOD:PUBLISH
X-WR-CALNAME:KOHALA MOUNTAIN NEWS
X-ORIGINAL-URL:https://kohalamountainnews.com
X-WR-CALDESC:Events for KOHALA MOUNTAIN NEWS
REFRESH-INTERVAL;VALUE=DURATION:PT1H
X-Robots-Tag:noindex
X-PUBLISHED-TTL:PT1H
BEGIN:VTIMEZONE
TZID:Pacific/Honolulu
BEGIN:STANDARD
TZOFFSETFROM:-1000
TZOFFSETTO:-1000
TZNAME:HST
DTSTART:20240101T000000
END:STANDARD
END:VTIMEZONE
BEGIN:VEVENT
DTSTART;TZID=Pacific/Honolulu:20250403T053000
DTEND;TZID=Pacific/Honolulu:20250403T053000
DTSTAMP:20260424T061311
CREATED:20250328T072650Z
LAST-MODIFIED:20250328T072650Z
UID:2058-1743658200-1743658200@kohalamountainnews.com
SUMMARY:MAYOR TOWN HALL
DESCRIPTION:AT KAMEHAMEHA PARK
URL:https://kohalamountainnews.com/event/mayor-town-hall/
END:VEVENT
END:VCALENDAR