BEGIN:VCALENDAR
VERSION:2.0
PRODID:-//KOHALA MOUNTAIN NEWS - ECPv6.15.20//NONSGML v1.0//EN
CALSCALE:GREGORIAN
METHOD:PUBLISH
X-ORIGINAL-URL:https://kohalamountainnews.com
X-WR-CALDESC:Events for KOHALA MOUNTAIN NEWS
REFRESH-INTERVAL;VALUE=DURATION:PT1H
X-Robots-Tag:noindex
X-PUBLISHED-TTL:PT1H
BEGIN:VTIMEZONE
TZID:Pacific/Honolulu
BEGIN:STANDARD
TZOFFSETFROM:-1000
TZOFFSETTO:-1000
TZNAME:HST
DTSTART:20240101T000000
END:STANDARD
END:VTIMEZONE
BEGIN:VEVENT
DTSTART;TZID=Pacific/Honolulu:20250405T080000
DTEND;TZID=Pacific/Honolulu:20250405T080000
DTSTAMP:20260424T061523
CREATED:20250328T072650Z
LAST-MODIFIED:20250328T072650Z
UID:2060-1743840000-1743840000@kohalamountainnews.com
SUMMARY:THRIFT SHOP
DESCRIPTION:
URL:https://kohalamountainnews.com/event/thrift-shop-25/
END:VEVENT
BEGIN:VEVENT
DTSTART;TZID=Pacific/Honolulu:20250405T120000
DTEND;TZID=Pacific/Honolulu:20250405T120000
DTSTAMP:20260424T061523
CREATED:20250328T072650Z
LAST-MODIFIED:20250328T072650Z
UID:2061-1743854400-1743854400@kohalamountainnews.com
SUMMARY:PSYCHEDELIC REALITIES
DESCRIPTION:OPENING
URL:https://kohalamountainnews.com/event/psychedelic-realities/
LOCATION:Artists’ cooperative
END:VEVENT
END:VCALENDAR