BEGIN:VCALENDAR
VERSION:2.0
PRODID:-//KOHALA MOUNTAIN NEWS - ECPv6.15.20//NONSGML v1.0//EN
CALSCALE:GREGORIAN
METHOD:PUBLISH
X-ORIGINAL-URL:https://kohalamountainnews.com
X-WR-CALDESC:Events for KOHALA MOUNTAIN NEWS
REFRESH-INTERVAL;VALUE=DURATION:PT1H
X-Robots-Tag:noindex
X-PUBLISHED-TTL:PT1H
BEGIN:VTIMEZONE
TZID:UTC
BEGIN:STANDARD
TZOFFSETFROM:+0000
TZOFFSETTO:+0000
TZNAME:UTC
DTSTART:20220101T000000
END:STANDARD
END:VTIMEZONE
BEGIN:VEVENT
DTSTART;TZID=UTC:20230628T123000
DTEND;TZID=UTC:20230628T123000
DTSTAMP:20260425T011912
CREATED:20230623T135828Z
LAST-MODIFIED:20230623T135828Z
UID:1272-1687955400-1687955400@kohalamountainnews.com
SUMMARY:BENFIT BY THE BEACH
DESCRIPTION:HALE O HAWAII COUNTY
URL:https://kohalamountainnews.com/event/benfit-by-the-beach/
LOCATION:FAIRMONT ORCHID
END:VEVENT
END:VCALENDAR